BEGIN:VCALENDAR
VERSION:2.0
PRODID:-//hacksw/handcal//NONSGML v1.0//EN
BEGIN:VEVENT
DTSTART:20160511T160000
DTEND:20160511T180000
LOCATION:HEC Alumni \n9, Avenue Franklin Delano Roosevelt \n75008 PARIS
ORGANIZER;CN=Marine Homo:MAILTO:marine.homo@hecalumni.fr
SUMMARY:Atelier-Carrières "Comment réussir à décrocher le poste que je vise"
DESCRIPTION:\nDiplômés HEC: vous devez activer votre compte pour bénéficier du meilleur tarif,\npour cela cliquez ci-dessous, si vous ne l'avez pas encore fait sur ce nouveau site:\n Activez votre compte\nDaniel ...
URL:https://www.hecalumni.fr/fr/event/atelier-carrieres-comment-reussir-a-decrocher-le-poste-que-je-vise/2016/05/11/207
BEGIN:VALARM
TRIGGER:-P0DT1H0M0S
ACTION:DISPLAY
END:VALARM
END:VEVENT
END:VCALENDAR