BEGIN:VCALENDAR
VERSION:2.0
PRODID:-//hacksw/handcal//NONSGML v1.0//EN
BEGIN:VEVENT
DTSTART:20160502T090000
DTEND:20160502T183000
LOCATION:CRCI Champerret  \n4, Avenue de la Porte de Champerret \n75017 PARIS-17E-ARRONDISSEMENT
ORGANIZER;CN=Marine Homo:MAILTO:marine.homo@hecalumni.fr
SUMMARY:Séminaire "Entrainement à la reprise d'entreprise"
DESCRIPTION:\nDiplômés HEC: vous devez activer votre compte pour bénéficier du meilleur tarif,\npour cela cliquez ci-dessous, si vous ne l'avez pas encore fait sur ce nouveau site:\n Activez votre...
URL:https://www.hecalumni.fr/fr/event/seminaire-entrainement-a-la-reprise-d-entreprise/2016/05/02/201
BEGIN:VALARM
TRIGGER:-P0DT1H0M0S
ACTION:DISPLAY
END:VALARM
END:VEVENT
END:VCALENDAR