BEGIN:VCALENDAR
VERSION:2.0
PRODID:-//hacksw/handcal//NONSGML v1.0//EN
BEGIN:VEVENT
DTSTART:20180214T154500
DTEND:20180214T174500
LOCATION:HEC Alumni \n9, Avenue Franklin Delano Roosevelt \n75008 PARIS
ORGANIZER;CN=Claudette Couffi:MAILTO:claudette.couffi@hecalumni.fr
SUMMARY:Séminaire (Re)Négociez un salaire ou une augmentation avec succès - 14 Février
DESCRIPTION:N’oubliez pas :Cotiser, c’est bénéficier de tarifs préférentiels pour nos événements ; mais cotiser, c‘est aussi un geste de solidarité pour la communauté HEC.CLIQUEZ ICI ! ﻿Merci\nLa négociation de...
URL:https://www.hecalumni.fr/fr/event/seminaire-re-negociez-un-salaire-ou-une-augmentation-avec-succes-14-fevrier/2018/02/14/1989
BEGIN:VALARM
TRIGGER:-P0DT1H0M0S
ACTION:DISPLAY
END:VALARM
END:VEVENT
END:VCALENDAR