BEGIN:VCALENDAR
VERSION:2.0
PRODID:-//hacksw/handcal//NONSGML v1.0//EN
BEGIN:VEVENT
DTSTART:20180516T181500
DTEND:20180516T211500
LOCATION:HEC Alumni \n9, Avenue Franklin Delano Roosevelt \n75008 PARIS
ORGANIZER;CN=Claudette Couffi:MAILTO:claudette.couffi@hecalumni.fr
SUMMARY:Test STRONG - 16 Mai
DESCRIPTION:N’oubliez pas :Cotiser, c’est bénéficier de tarifs préférentiels pour nos événements ; mais cotiser, c‘est aussi un geste de solidarité pour la communauté HEC.CLIQUEZ ICI ! ﻿Merci\nObjectif : Vous...
URL:https://www.hecalumni.fr/fr/event/test-strong-16-mai/2018/05/16/1969
BEGIN:VALARM
TRIGGER:-P0DT1H0M0S
ACTION:DISPLAY
END:VALARM
END:VEVENT
END:VCALENDAR