BEGIN:VCALENDAR
VERSION:2.0
PRODID:-//hacksw/handcal//NONSGML v1.0//EN
BEGIN:VEVENT
DTSTART:20170113T180000
DTEND:20170113T200000
LOCATION:HEC Alumni \n9, Avenue Franklin Delano Roosevelt \n75008 PARIS
ORGANIZER;CN=Claudette Couffi:MAILTO:claudette.couffi@hecalumni.fr
SUMMARY:Réunion d'information "Synergie Carrières" AVARAP
DESCRIPTION:Le programme d’accompagnement « Synergie-Carrières » : le meilleur atout pour dynamiser sa réorientation professionnelle et sa recherche d’emploi\n \nViens t’informer à la réunion qui se déroulera le ...
URL:https://www.hecalumni.fr/fr/event/reunion-d-information-synergie-carrieres-avarap/2017/01/13/1909
BEGIN:VALARM
TRIGGER:-P0DT1H0M0S
ACTION:DISPLAY
END:VALARM
END:VEVENT
END:VCALENDAR