BEGIN:VCALENDAR
VERSION:2.0
PRODID:-//hacksw/handcal//NONSGML v1.0//EN
BEGIN:VEVENT
DTSTART:20170123T183000
DTEND:20170123T213000
LOCATION:HEC Alumni \n9, Avenue Franklin Delano Roosevelt \n75008 PARIS
ORGANIZER;CN=Claudette Couffi:MAILTO:claudette.couffi@hecalumni.fr
SUMMARY:Séminaire "Pitchez comme vous aimez" - 23 janvier
DESCRIPTION:\nObjectif :\nApprendre à se présenter dans un temps court en contexte professionnel, que l’on crée son activité ou que l’on recherche un emploi. Quelle trace laisser de soi, comment faciliter le...
URL:https://www.hecalumni.fr/fr/event/seminaire-pitchez-comme-vous-aimez-23-janvier/2017/01/23/1683
BEGIN:VALARM
TRIGGER:-P0DT1H0M0S
ACTION:DISPLAY
END:VALARM
END:VEVENT
END:VCALENDAR