BEGIN:VCALENDAR
VERSION:2.0
PRODID:-//hacksw/handcal//NONSGML v1.0//EN
BEGIN:VEVENT
DTSTART:20170125T090000
DTEND:20170125T123000
LOCATION:HEC Alumni \n9, Avenue Franklin Delano Roosevelt \n75008 PARIS
ORGANIZER;CN=Marine Homo:MAILTO:marine.homo@hecalumni.fr
SUMMARY:Séminaire "Oriente ta carrière dans le sens qui te convient vraiment"
DESCRIPTION:\nEntreprendre un changement pour te sentir mieux dans ton job !\n(Spécial 25/40 ans)\nTu as envie de bouger mais tu ne trouves pas le temps et/ou l’énergie de démarrer ton projet ?\nViens faire le...
URL:https://www.hecalumni.fr/fr/event/seminaire-oriente-ta-carriere-dans-le-sens-qui-te-convient-vraiment/2017/01/25/1643
BEGIN:VALARM
TRIGGER:-P0DT1H0M0S
ACTION:DISPLAY
END:VALARM
END:VEVENT
END:VCALENDAR