BEGIN:VCALENDAR
VERSION:2.0
PRODID:-//hacksw/handcal//NONSGML v1.0//EN
BEGIN:VEVENT
DTSTART:20260604T163000Z
DTEND:20260604T200000Z
LOCATION:Alumni CentraleSupélec \n8, Rue Jean Goujon \n75008 PARIS
ORGANIZER;CN=Pierre Antoine Chiarelli - Economie Sociale et Solidaire - Social Economy and Solidarity:MAILTO:pachiarelli@hotmail.com
SUMMARY:Acteur dans l'impact, ne restez pas seul face à vos problématiques, activez l'intelligence collective !
DESCRIPTION:Acteur dans l'impact, ne restez pas seul face à vos problématiques, activez l'intelligence collective !Envie d'expérimenter le Codev à travers une approche légère et efficace ?\nLes groupes ESS des...
URL:https://www.hecalumni.fr/fr/group/economie-sociale-et-solidaire-social-economy-and-solidarity/225/calendar/acteur-dans-l-impact-ne-restez-pas-seul-face-a-vos-problematiques-activez-l-intelligence-collective/2026/06/04/13683
BEGIN:VALARM
TRIGGER:-P0DT1H0M0S
ACTION:DISPLAY
END:VALARM
END:VEVENT
END:VCALENDAR