BEGIN:VCALENDAR
VERSION:2.0
PRODID:-//hacksw/handcal//NONSGML v1.0//EN
BEGIN:VEVENT
DTSTART:20260418T010000Z
DTEND:20260731T180000Z
LOCATION:
ORGANIZER;CN=Isabelle Dion - HUB SANTE - HEALTH HUB:MAILTO:isabellecdion@orange.fr
SUMMARY:GUIDE PHARMA SANTE
DESCRIPTION:VERSION DIGITALE\nVous avez été très nombreux à souhaiter bénéficier à titre gracieux d'un exemplaire du Guide Pharma Santé, édité par Le Quotidien du Médecin et Le Quotidien du Pharmacien, dans son...
URL:https://www.hecalumni.fr/fr/group/hub-sante-health-hub/393/calendar/guide-pharma-sante/2026/04/18/13680
BEGIN:VALARM
TRIGGER:-P0DT1H0M0S
ACTION:DISPLAY
END:VALARM
END:VEVENT
END:VCALENDAR