BEGIN:VCALENDAR
VERSION:2.0
PRODID:-//hacksw/handcal//NONSGML v1.0//EN
BEGIN:VEVENT
DTSTART:20260519T163000Z
DTEND:20260519T200000Z
LOCATION:L'Appart Toulouse  \n37, Rue de Metz \n31000 TOULOUSE
ORGANIZER;CN=Laurence Rolland - Toulouse Occitanie:MAILTO:laurence.rolland@hecalumni.fr
SUMMARY:Conférence : Retours d'Expériences IA - 19 mai
DESCRIPTION:\nBonjour, Le 19 mai à Toulouse, rejoignez-nous pour une soirée dédiée à l'Intelligence Artificielle 🤖✨Pitchs d'experts, démonstrations concrètes et networking autour d'un cocktail dinatoire dans le...
URL:https://www.hecalumni.fr/fr/group/toulouse-occitanie/65/calendar/conference-retours-d-experiences-ia-19-mai/2026/05/19/13678
BEGIN:VALARM
TRIGGER:-P0DT1H0M0S
ACTION:DISPLAY
END:VALARM
END:VEVENT
END:VCALENDAR