BEGIN:VCALENDAR
VERSION:2.0
PRODID:-//hacksw/handcal//NONSGML v1.0//EN
BEGIN:VEVENT
DTSTART:20270117T130000Z
DTEND:20270119T110000Z
LOCATION:Chamonix (74)
ORGANIZER;CN=Audrey Arrivetx - Gestion de Crise:MAILTO:audrey.arrivetx@gmail.com
SUMMARY:Stage Expérientiel Approfondissement - Gestion de Groupe - Montagne - Hiver 2027
DESCRIPTION:STAGE EXPÉRIENTIEL – APPROFONDISSEMENTGESTION DE GROUPEAVEC MOUNTAIN PATHDu Dimanche 17 au Mardi 19 Janvier 2027À Chamonix\nLe stage Hiver est le second RDV du programme annuel monté par le club...
URL:https://www.hecalumni.fr/fr/group/gestion-de-crise/3019/calendar/stage-experientiel-approfondissement-gestion-de-groupe-montagne-hiver-2027/2027/01/17/13676
BEGIN:VALARM
TRIGGER:-P0DT1H0M0S
ACTION:DISPLAY
END:VALARM
END:VEVENT
END:VCALENDAR