BEGIN:VCALENDAR
VERSION:2.0
PRODID:-//hacksw/handcal//NONSGML v1.0//EN
BEGIN:VEVENT
DTSTART:20260602T163000Z
DTEND:20260602T180000Z
LOCATION:Association HEC Alumni \n9, Avenue Franklin Delano Roosevelt \n75008 PARIS
ORGANIZER;CN=Philippe Crosnier - Gouvernance - Administrateurs & Dirigeants - Corporate Governance - Directors & Officers:MAILTO:philippe.crosnier@valleeconsulting.fr
SUMMARY:Conseil d'administration et direction générale : valse ou tango ?
DESCRIPTION:Conseil d'administration et direction générale : valse ou tango ?  Mardi 2 juin 2026 de 18h30 à 20h00 (suivi d'un cocktail) - Accueil à partir de 18h00HEC Alumni 9, Avenue Franklin Delano Roosevelt...
URL:https://www.hecalumni.fr/fr/group/gouvernance-administrateurs-dirigeants-corporate-governance-directors-officers/321/calendar/conseil-d-administration-et-direction-generale-valse-ou-tango/2026/06/02/13670
BEGIN:VALARM
TRIGGER:-P0DT1H0M0S
ACTION:DISPLAY
END:VALARM
END:VEVENT
END:VCALENDAR