BEGIN:VCALENDAR
VERSION:2.0
PRODID:-//hacksw/handcal//NONSGML v1.0//EN
BEGIN:VEVENT
DTSTART:20161115T180000
DTEND:20161115T210000
LOCATION:Allouche Gallery - Meatpacking District  \n82, Gansevoort Street \n10014 NEW YORK
ORGANIZER;CN=Astrid Veyrat:MAILTO:astrid.veyrat@hecalumni.fr
SUMMARY:HEC Alumni Fundraising Event - Friends of HEC - NYC on Tuesday, November 15th
DESCRIPTION: \nIf you have not yet paid your membership fees, join HEC Alumni to avail of\nthe association’s full services by clicking here.\nPaying your Membership Fees is also an act of solidarity.\n
URL:https://www.hecalumni.fr/fr/event/hec-alumni-fundraising-event-friends-of-hec-nyc-on-tuesday-november-15th/2016/11/15/1367
BEGIN:VALARM
TRIGGER:-P0DT1H0M0S
ACTION:DISPLAY
END:VALARM
END:VEVENT
END:VCALENDAR