BEGIN:VCALENDAR
VERSION:2.0
PRODID:-//hacksw/handcal//NONSGML v1.0//EN
BEGIN:VEVENT
DTSTART:20260505T103000Z
DTEND:20260505T110000Z
LOCATION:https://us02web.zoom.us/j/84377462631?pwd=qWDoJsdoanbfBQXzGpjKvyhcWKtjKJ.1
ORGANIZER;CN=Sandrelle Dedegbe:MAILTO:sandrelle.dedegbe@hecalumni.fr
SUMMARY:Webinaire de présentation de la plateforme de Lifelong learning HEC Alumni by Edflex
DESCRIPTION:Code d'accès du webinar ID: 843 7746 2631 MDP : 910484...
URL:https://www.hecalumni.fr/fr/event/webinaire-de-presentation-de-la-plateforme-de-lifelong-learning-hec-alumni-by-edflex/2026/05/05/13668
BEGIN:VALARM
TRIGGER:-P0DT1H0M0S
ACTION:DISPLAY
END:VALARM
END:VEVENT
END:VCALENDAR