BEGIN:VCALENDAR
VERSION:2.0
PRODID:-//hacksw/handcal//NONSGML v1.0//EN
BEGIN:VEVENT
DTSTART:20260413T123000Z
DTEND:20260413T150000Z
LOCATION:A l'Association et par ZOOM \n9 avenue F.D. Roosevelt \n75008 Paris
ORGANIZER;CN=Elisabeth Laverge - Generation Share:MAILTO:elisabeth.laverge@gmail.com
SUMMARY:GENERATION SHARE - Cercle de réflexion -  « Une innovation est-elle toujours source de progrès ? »
DESCRIPTION:\nGENERATION SHARE - Génération PartagePartageons nos talents!\nChers amis, bonjour !\nNous sommes heureux de vous convier à la réunion de notre\n Cercle de réflexionle lundi 13 avril  2026 à...
URL:https://www.hecalumni.fr/fr/group/generation-share/377/calendar/generation-share-cercle-de-reflexion-une-innovation-est-elle-toujours-source-de-progres/2026/04/13/13619
BEGIN:VALARM
TRIGGER:-P0DT1H0M0S
ACTION:DISPLAY
END:VALARM
END:VEVENT
END:VCALENDAR