BEGIN:VCALENDAR
VERSION:2.0
PRODID:-//hacksw/handcal//NONSGML v1.0//EN
BEGIN:VEVENT
DTSTART:20260829T080000Z
DTEND:20260829T093000Z
LOCATION:Grimaldi Forum Monaco \n10 avenue Princesse Grace  \n98000 MONACO
ORGANIZER;CN=Tatiana Panyukova - Côte d'Azur:MAILTO:tatiana_adragna@yahoo.fr
SUMMARY:Exposition "Monaco et l'Automobile" - Visite guidée commentée - Samedi 29 août 10h00-11h30
DESCRIPTION:\np.p1 {margin: 0.0px 0.0px 0.0px 0.0px; font: 13.0px 'Helvetica Neue'} p.p2 {margin: 0.0px 0.0px 0.0px 0.0px; font: 13.0px 'Helvetica Neue'; min-height: 15.0px} span.s1 {text-decoration:...
URL:https://www.hecalumni.fr/fr/group/cote-d-azur/53/calendar/exposition-monaco-et-l-automobile-visite-guidee-commentee-samedi-29-aout-10h00-11h30/2026/08/29/13612
BEGIN:VALARM
TRIGGER:-P0DT1H0M0S
ACTION:DISPLAY
END:VALARM
END:VEVENT
END:VCALENDAR