BEGIN:VCALENDAR
VERSION:2.0
PRODID:-//hacksw/handcal//NONSGML v1.0//EN
BEGIN:VEVENT
DTSTART:20260506T160000Z
DTEND:20260506T173000Z
LOCATION:
ORGANIZER;CN=Christian Rouy - Club HEC Détente:MAILTO:rouy.christian@orange.fr
SUMMARY:Club HEC Détente : VISIOCONFERENCE "CLAUDE MONET : SES PERSONNAGES DANS LA LUMIÈRE"
DESCRIPTION:CLAUDE MONET : SES PERSONNAGES DANS LA LUMIÈRESi Claude Monet est avant tout célébré pour ses paysages et son exploration de la lumière, la figure humaine occupe une place essentielle dans les...
URL:https://www.hecalumni.fr/fr/group/club-hec-detente/163/calendar/club-hec-detente-visioconference-claude-monet-ses-personnages-dans-la-lumiere/2026/05/06/13604
BEGIN:VALARM
TRIGGER:-P0DT1H0M0S
ACTION:DISPLAY
END:VALARM
END:VEVENT
END:VCALENDAR