BEGIN:VCALENDAR
VERSION:2.0
PRODID:-//hacksw/handcal//NONSGML v1.0//EN
BEGIN:VEVENT
DTSTART:20260423T163000Z
DTEND:20260423T193000Z
LOCATION:ESMT Berlin \n1, Schloßplatz \n10178 BERLIN
ORGANIZER;CN=Arnaud Becuwe - Germany:MAILTO:a.becuwe@web.de
SUMMARY:BERLIN 23.04: Alumni Networking Mixer: HEC Paris & ESMT Berlin
DESCRIPTION:\nDear HEC-Alumni in Berlin,\n(and the ones passing by)\njoin us for a networking evening bringing together alumni from HEC and ESMT at the ESMT campus in Berlin.Alumni Networking Mixer: \nHEC Paris &...
URL:https://www.hecalumni.fr/fr/group/germany/141/calendar/berlin-23-04-alumni-networking-mixer-hec-paris-esmt-berlin/2026/04/23/13598
BEGIN:VALARM
TRIGGER:-P0DT1H0M0S
ACTION:DISPLAY
END:VALARM
END:VEVENT
END:VCALENDAR