BEGIN:VCALENDAR
VERSION:2.0
PRODID:-//hacksw/handcal//NONSGML v1.0//EN
BEGIN:VEVENT
DTSTART:20260421T060000Z
DTEND:20260421T080000Z
LOCATION:HEC Alumni \n9, Avenue Franklin Roosevelt \n75008 Paris
ORGANIZER;CN=Ghassan Attié - Sport Business:MAILTO:ghassan.attie@gmail.com
SUMMARY:Rencontre avec Joseph Oughourlian (H.94) - Président du RC Lens
DESCRIPTION:Le Club HEC SPORT BUSINESS reçoit Joseph Oughourlian (H.94)Président du RC Lens\nMardi 21 avril à 8h30(Accueil / petit-déjeuner à partir de 8h) Au Siège de l’Association HEC,9, avenue Franklin...
URL:https://www.hecalumni.fr/fr/group/sport-business/453/calendar/rencontre-avec-joseph-oughourlian-h-94-president-du-rc-lens/2026/04/21/13596
BEGIN:VALARM
TRIGGER:-P0DT1H0M0S
ACTION:DISPLAY
END:VALARM
END:VEVENT
END:VCALENDAR