BEGIN:VCALENDAR
VERSION:2.0
PRODID:-//hacksw/handcal//NONSGML v1.0//EN
BEGIN:VEVENT
DTSTART:20260331T110000Z
DTEND:20260331T120000Z
LOCATION:https://www.eventbrite.fr/e/billets-webinar-gef-sur-lagisme-en-entreprise-avec-sophie-dancourt-1985143574871
ORGANIZER;CN=Nesrine Kebache - HEC We&men:MAILTO:kebache.nesrine@gmail.com
SUMMARY:WEBINAR GEF| Trop jeune, trop vieille ? - L'âgisme en entreprise avec Sophie Dancourt
DESCRIPTION:HEC We&men a le plaisir de relayer l'invitation de Grandes Ecoles au FémininWEBINAR GEF avec Sophie Dancourt, \nfondatrice de "J'ai piscine avec Simone"\n  Crédits photo : © S. Boyer\nJe...
URL:https://www.hecalumni.fr/fr/group/hec-we-men/287/calendar/webinar-gef-trop-jeune-trop-vieille-l-agisme-en-entreprise-avec-sophie-dancourt/2026/03/31/13590
BEGIN:VALARM
TRIGGER:-P0DT1H0M0S
ACTION:DISPLAY
END:VALARM
END:VEVENT
END:VCALENDAR