BEGIN:VCALENDAR
VERSION:2.0
PRODID:-//hacksw/handcal//NONSGML v1.0//EN
BEGIN:VEVENT
DTSTART:20260506T173000Z
DTEND:20260506T190000Z
LOCATION:Le Mans  \n72000 Le Mans
ORGANIZER;CN=Laurent Delporte - Pays de la Loire:MAILTO:coach@laurentdelporte.com
SUMMARY:Atelier : « Aimez prendre la parole en public »
DESCRIPTION:Atelier : « Aimez prendre la parole en public »\nLe 6 mai de 19h30 à 21h. Centre-ville du Mans (lieu à préciser \nVenez pour un apéritif suivi d’un atelier expérientiel qui mêle le chant et le...
URL:https://www.hecalumni.fr/fr/group/pays-de-la-loire/71/calendar/atelier-aimez-prendre-la-parole-en-public/2026/05/06/13583
BEGIN:VALARM
TRIGGER:-P0DT1H0M0S
ACTION:DISPLAY
END:VALARM
END:VEVENT
END:VCALENDAR