BEGIN:VCALENDAR
VERSION:2.0
PRODID:-//hacksw/handcal//NONSGML v1.0//EN
BEGIN:VEVENT
DTSTART:20260324T170000Z
DTEND:20260324T183000Z
LOCATION:
ORGANIZER;CN=Isabelle Dion - SANTE - HEALTH:MAILTO:isabellecdion@orange.fr
SUMMARY:L'ENDOMETRIOSE
DESCRIPTION:\nL’Inserm convie les membres d’HEC Santé à sa prochaine webconférence qui se tiendra mardi 24 mars 2026, de 19h00 à 19h30, sur le thème de  L'ENDOMETRIOSE"L’endométriose touche une femme sur dix et...
URL:https://www.hecalumni.fr/fr/group/sante-health/187/calendar/l-endometriose/2026/03/24/13577
BEGIN:VALARM
TRIGGER:-P0DT1H0M0S
ACTION:DISPLAY
END:VALARM
END:VEVENT
END:VCALENDAR