BEGIN:VCALENDAR
VERSION:2.0
PRODID:-//hacksw/handcal//NONSGML v1.0//EN
BEGIN:VEVENT
DTSTART:20260427T103000Z
DTEND:20260427T120000Z
LOCATION:https://us02web.zoom.us/j/82695090119?pwd=cas23aLldriVbSqmf73LcrM3P8ps7n.1
ORGANIZER;CN=Marine Homo:MAILTO:marine.homo@hecalumni.fr
SUMMARY:Webinar "How to navigate the French job market" - April 27
DESCRIPTION:Code d'accès du webinar 016333...
URL:https://www.hecalumni.fr/fr/event/webinar-how-to-navigate-the-french-job-market-april-27/2026/04/27/13562
BEGIN:VALARM
TRIGGER:-P0DT1H0M0S
ACTION:DISPLAY
END:VALARM
END:VEVENT
END:VCALENDAR