BEGIN:VCALENDAR
VERSION:2.0
PRODID:-//hacksw/handcal//NONSGML v1.0//EN
BEGIN:VEVENT
DTSTART:20260326T180000Z
DTEND:20260326T210000Z
LOCATION:Cercle Européen de Strasbourg \n1, Rue Massenet \n67000 STRASBOURG
ORGANIZER;CN=Marie Delassus - Alsace:MAILTO:delassus.marie@gmail.com
SUMMARY:Quand l’IA réinvente le management et la création de valeur
DESCRIPTION:\nChers alumni alsaciens et alsaciennes,\nLe Club ESSEC Alumni Alsace avec les participations des Clubs d'HEC Alumni, ESCP Europe et Sciences Po.Paris, a le plaisir de vous convier à  une conférence...
URL:https://www.hecalumni.fr/fr/group/alsace/41/calendar/quand-l-ia-reinvente-le-management-et-la-creation-de-valeur/2026/03/26/13549
BEGIN:VALARM
TRIGGER:-P0DT1H0M0S
ACTION:DISPLAY
END:VALARM
END:VEVENT
END:VCALENDAR