BEGIN:VCALENDAR
VERSION:2.0
PRODID:-//hacksw/handcal//NONSGML v1.0//EN
BEGIN:VEVENT
DTSTART:20260201T090000Z
DTEND:20261115T100000Z
LOCATION:PARIS
ORGANIZER;CN=Isabelle Briois - Club HEC Détente:MAILTO:ibriois@yahoo.fr
SUMMARY:Cycle Impressionniste MONET
DESCRIPTION:Claude Monet, l’invention d’un regardCycle HEC Détente – 2026\nÀ l’occasion du centenaire de la disparition de Claude Monet (1840-1926), HEC Détente propose tout au long de l’année 2026 un cycle de...
URL:https://www.hecalumni.fr/fr/group/club-hec-detente/163/calendar/cycle-impressionniste-monet/2026/02/01/13541
BEGIN:VALARM
TRIGGER:-P0DT1H0M0S
ACTION:DISPLAY
END:VALARM
END:VEVENT
END:VCALENDAR