BEGIN:VCALENDAR
VERSION:2.0
PRODID:-//hacksw/handcal//NONSGML v1.0//EN
BEGIN:VEVENT
DTSTART:20260422T063000Z
DTEND:20260422T083000Z
LOCATION:Station F \n5, Parvis Alan Turing \n75013 PARIS
ORGANIZER;CN=Laurent Blondeau - Ile-de-France Ouest:MAILTO:lbuzzedin@gmail.com
SUMMARY:Quelles innovations pour 2026 ? Comment l'#IA générative bouleverse le monde du commerce ?
DESCRIPTION:Retour d'expériences CES, NRF et GITEX : Quelles innovations pour 2026 ? Comment l'#IA générative bouleverse le monde du commerce ? Conférence par EMMANUEL VIVIER,Cofondateur du Hub Institute La 5G,...
URL:https://www.hecalumni.fr/fr/group/ile-de-france-ouest/277/calendar/quelles-innovations-pour-2026-comment-l-ia-generative-bouleverse-le-monde-du-commerce/2026/04/22/13535
BEGIN:VALARM
TRIGGER:-P0DT1H0M0S
ACTION:DISPLAY
END:VALARM
END:VEVENT
END:VCALENDAR