BEGIN:VCALENDAR
VERSION:2.0
PRODID:-//hacksw/handcal//NONSGML v1.0//EN
BEGIN:VEVENT
DTSTART:20260512T073000Z
DTEND:20260512T090000Z
LOCATION:HEC UK House \n43 Parker Street  \nWC2B 5PS London
ORGANIZER;CN=Marie Normant - United Kingdom - UK:MAILTO:marie.normant@hecalumni.fr
SUMMARY:HEC UK Governance Club: Charity Trustee: Why not me?
DESCRIPTION:The HEC UK Governance Club is delighted to invite you to their next panel discussion in partnership with RIAC, the network for the next generation of Arts Trustees: Charity Trustee: Why not me?Panel...
URL:https://www.hecalumni.fr/fr/group/united-kingdom-uk/109/calendar/hec-uk-governance-club-charity-trustee-why-not-me/2026/05/12/13534
BEGIN:VALARM
TRIGGER:-P0DT1H0M0S
ACTION:DISPLAY
END:VALARM
END:VEVENT
END:VCALENDAR