BEGIN:VCALENDAR
VERSION:2.0
PRODID:-//hacksw/handcal//NONSGML v1.0//EN
BEGIN:VEVENT
DTSTART:20260423T173000Z
DTEND:20260423T203000Z
LOCATION:HEC UK House \n43 Parker Street \nWC2B 5PS LONDON
ORGANIZER;CN=Marie Normant - United Kingdom - UK:MAILTO:marie.normant@hecalumni.fr
SUMMARY:A discussion on global markets with Kokou Agbo-Bloua
DESCRIPTION:A discussion on Global Markets with Kokou Agbo-Bloua Global Head of Economics, Cross-Asset and Quant Research at Societe Generale Thursday 23rd April 2026 at 6:30pm HEC UK House 43 Parker Street WC2B ...
URL:https://www.hecalumni.fr/fr/group/united-kingdom-uk/109/calendar/a-discussion-on-global-markets-with-kokou-agbo-bloua/2026/04/23/13533
BEGIN:VALARM
TRIGGER:-P0DT1H0M0S
ACTION:DISPLAY
END:VALARM
END:VEVENT
END:VCALENDAR