BEGIN:VCALENDAR
VERSION:2.0
PRODID:-//hacksw/handcal//NONSGML v1.0//EN
BEGIN:VEVENT
DTSTART:20260317T190000Z
DTEND:20260317T220000Z
LOCATION:Club SKYBOARD \n25, Rue de Ponthieu \n75008 PARIS
ORGANIZER;CN=Pascal Pham - Marketing & Communication:MAILTO:ppham@triumemba.org
SUMMARY:SAVE THE DATE – Afterwork Ligue des Champions CHELSEA-PSG, mardi 17 mars
DESCRIPTION:Chère membre, cher membre de HEC Paris alumni,Les phases finales de  Ligue des champions sont de retour, avec une affiche exceptionnelle ! CHELSEA - PSG : revanche de la finale de la Coupe du monde...
URL:https://www.hecalumni.fr/fr/group/marketing-communication/189/calendar/save-the-date-afterwork-ligue-des-champions-chelsea-psg-mardi-17-mars/2026/03/17/13508
BEGIN:VALARM
TRIGGER:-P0DT1H0M0S
ACTION:DISPLAY
END:VALARM
END:VEVENT
END:VCALENDAR