BEGIN:VCALENDAR
VERSION:2.0
PRODID:-//hacksw/handcal//NONSGML v1.0//EN
BEGIN:VEVENT
DTSTART:20260326T073000Z
DTEND:20260326T090000Z
LOCATION:HEC Alumni \n9, Avenue Franklin Delano Roosevelt \n75008 PARIS
ORGANIZER;CN=Jérôme Wagner - Media et Entertainment:MAILTO:jwagner@maje-entertainment.com
SUMMARY:Club HEC Médias & Entertainment reçoit Pierre LOUETTE "Les Medias, transformation numérique et propriété intellectuelle : la bataille face aux Gafam"
DESCRIPTION:Club Médias & Entertainment Reçoit Pierre LOUETTE  Interviewé par Christine Kerdellant sur le thème :Les Medias, transformation numérique et propriété intellectuelle : la bataille face aux Gafam Jeudi...
URL:https://www.hecalumni.fr/fr/group/media-et-entertainment/203/calendar/club-hec-medias-entertainment-recoit-pierre-louette-les-medias-transformation-numerique-et-propriete-intellectuelle-la-bataille-face-aux-gafam/2026/03/26/13506
BEGIN:VALARM
TRIGGER:-P0DT1H0M0S
ACTION:DISPLAY
END:VALARM
END:VEVENT
END:VCALENDAR