BEGIN:VCALENDAR
VERSION:2.0
PRODID:-//hacksw/handcal//NONSGML v1.0//EN
BEGIN:VEVENT
DTSTART:20260318T174500Z
DTEND:20260318T210000Z
LOCATION:Campus ESCP Montparnasse \n3, Rue Armand Moisant \n75015 PARIS
ORGANIZER;CN=Jérôme Wagner - Media et Entertainment:MAILTO:jwagner@maje-entertainment.com
SUMMARY:CREATOR ECONOMY : CHANGEMENT D’ÉCHELLE Formats, business, nouvelles ambitions
DESCRIPTION:Cher Alumni,Le Groupe ESCP Alumni Médias, en partenariat avec les groupes Médias de Sciences Po Alumni, EDHEC Alumni, HEC Alumni et ESSEC Alumni, est heureux de vous convier à une table ronde...
URL:https://www.hecalumni.fr/fr/group/media-et-entertainment/203/calendar/creator-economy-changement-d-echelle-formats-business-nouvelles-ambitions/2026/03/18/13505
BEGIN:VALARM
TRIGGER:-P0DT1H0M0S
ACTION:DISPLAY
END:VALARM
END:VEVENT
END:VCALENDAR