BEGIN:VCALENDAR
VERSION:2.0
PRODID:-//hacksw/handcal//NONSGML v1.0//EN
BEGIN:VEVENT
DTSTART:20260518T121500Z
DTEND:20260518T143000Z
LOCATION:Hôtel de Kergorlay \n9, Rue de l'Amiral d'Estaing \n75116 PARIS
ORGANIZER;CN=Christian Rouy - Club HEC Détente:MAILTO:rouy.christian@orange.fr
SUMMARY:Club HEC Détente : Visite de l'Hôtel de Kergolay
DESCRIPTION:Hôtel de Kergolay            Cet hôtel particulier, construit fin XIXème siècle par l’architecte Paul-Ernest Sanson pour le comte Pierre de Kergolay, époux de Marie de Caulaincourt, petite-fille du...
URL:https://www.hecalumni.fr/fr/group/club-hec-detente/163/calendar/club-hec-detente-visite-de-l-hotel-de-kergolay/2026/05/18/13501
BEGIN:VALARM
TRIGGER:-P0DT1H0M0S
ACTION:DISPLAY
END:VALARM
END:VEVENT
END:VCALENDAR