BEGIN:VCALENDAR
VERSION:2.0
PRODID:-//hacksw/handcal//NONSGML v1.0//EN
BEGIN:VEVENT
DTSTART:20260311T110000Z
DTEND:20260311T120000Z
LOCATION:École militaire \n17, Place Joffre \n75007 PARIS
ORGANIZER;CN=Fadi Lahoud - Géostratégie - Geostrategy:MAILTO:fadi.lahoud@gmail.com
SUMMARY:Géostratégie : "Armement de l'interdépendance économique"
DESCRIPTION:Cher(e)s camarades, \nJe partage avec vous une initiative menée par les professeurs Jeremy Ghez et Olivier Chatain avec l'IRSEM, Institut de Recherche Stratégique de l'Ecole Militaire, sur...
URL:https://www.hecalumni.fr/fr/group/geostrategie-geostrategy/285/calendar/geostrategie-armement-de-l-interdependance-economique/2026/03/11/13500
BEGIN:VALARM
TRIGGER:-P0DT1H0M0S
ACTION:DISPLAY
END:VALARM
END:VEVENT
END:VCALENDAR