BEGIN:VCALENDAR
VERSION:2.0
PRODID:-//hacksw/handcal//NONSGML v1.0//EN
BEGIN:VEVENT
DTSTART:20260311T180000Z
DTEND:20260311T210000Z
LOCATION:Le Bateau Phare \n3, Port de la Gare \n75013 PARIS
ORGANIZER;CN=Sarah Yarmohammadi - Jazz:MAILTO:syarmollard@gmail.com
SUMMARY:Soirée musicale : HEC Jazz Club x HEC Rock
DESCRIPTION:HEC Jazz Club × HEC Rock🎶 Mercredi 11 mars — 19hRendez-vous au Bateau PhareUn moment musical en toute convivialité, pour se retrouver entre alumni et faire vivre la scène HEC. Le mercredi 11 mars à...
URL:https://www.hecalumni.fr/fr/group/jazz/437/calendar/soiree-musicale-hec-jazz-club-x-hec-rock/2026/03/11/13499
BEGIN:VALARM
TRIGGER:-P0DT1H0M0S
ACTION:DISPLAY
END:VALARM
END:VEVENT
END:VCALENDAR