BEGIN:VCALENDAR
VERSION:2.0
PRODID:-//hacksw/handcal//NONSGML v1.0//EN
BEGIN:VEVENT
DTSTART:20260325T180000Z
DTEND:20260325T210000Z
LOCATION:HEC Alumni \n9 avenue Franklin Roosevelt \n75008 Paris
ORGANIZER;CN=Jérôme Bouquet - Energie - Energy Industry:MAILTO:jerome-bouquet2@orange.fr
SUMMARY:Décarboner l'industrie : contraintes ou opportunités?
DESCRIPTION:Cher(e) camarade,\nEntre un durcissement des règles (ETS, CBAM, CSRD, Clean Industrial Deal) et une orientation des capitaux vers les solutions bas carbone, que ce soit en Europe ou aux US,...
URL:https://www.hecalumni.fr/fr/group/energie-energy-industry/181/calendar/decarboner-l-industrie-contraintes-ou-opportunites/2026/03/25/13488
BEGIN:VALARM
TRIGGER:-P0DT1H0M0S
ACTION:DISPLAY
END:VALARM
END:VEVENT
END:VCALENDAR