BEGIN:VCALENDAR
VERSION:2.0
PRODID:-//hacksw/handcal//NONSGML v1.0//EN
BEGIN:VEVENT
DTSTART:20260310T173000Z
DTEND:20260310T213000Z
LOCATION:Hôtel MELIA VENDÔME \n8, Rue Cambon \n75001 PARIS
ORGANIZER;CN=Moulay Rachid Bourazza - Développement International - International Development:MAILTO:mrbourazza@gmail.com
SUMMARY:Grand Afterwork Franco-Indian on Tuesday March 10th starting 18h30
DESCRIPTION:WELCOME !  BIENVENUE !If you are an international person and you love Growth and Innovation, join us!\nAnd keep in touch!Grand Afterwork Franco Indian Tuesday March 10th, 2026, from 18h30 onwards\n ...
URL:https://www.hecalumni.fr/fr/group/developpement-international-international-development/217/calendar/grand-afterwork-franco-indian-on-tuesday-march-10th-starting-18h30/2026/03/10/13487
BEGIN:VALARM
TRIGGER:-P0DT1H0M0S
ACTION:DISPLAY
END:VALARM
END:VEVENT
END:VCALENDAR