BEGIN:VCALENDAR
VERSION:2.0
PRODID:-//hacksw/handcal//NONSGML v1.0//EN
BEGIN:VEVENT
DTSTART:20260310T073000Z
DTEND:20260310T090000Z
LOCATION:Cercle de l'Union Interalliée \n33, Rue du Faubourg Saint-Honoré \n75008 PARIS
ORGANIZER;CN=Nesrine Kebache - HEC We&men:MAILTO:kebache.nesrine@gmail.com
SUMMARY:Petit déjeuner GEF avec Arthur Mensch, cofondateur et PDG de Mistral AI
DESCRIPTION:HEC We&men a le plaisir de relayer l'invitation de Grandes Ecoles au Fémininpour un petit déjeuner avecArthur Mensch,cofondateur et PDG de Mistral AI\nMardi 10 mars 2026 de 8h30 à 10h00Accueil dès...
URL:https://www.hecalumni.fr/fr/group/hec-we-men/287/calendar/petit-dejeuner-gef-avec-arthur-mensch-cofondateur-et-pdg-de-mistral-ai/2026/03/10/13482
BEGIN:VALARM
TRIGGER:-P0DT1H0M0S
ACTION:DISPLAY
END:VALARM
END:VEVENT
END:VCALENDAR