BEGIN:VCALENDAR
VERSION:2.0
PRODID:-//hacksw/handcal//NONSGML v1.0//EN
BEGIN:VEVENT
DTSTART:20260402T163000Z
DTEND:20260402T210000Z
LOCATION:Le Syracuse \n215, Boulevard Eric Tabarly \n06270 VILLENEUVE-LOUBET
ORGANIZER;CN=Jessica Moison - Côte d'Azur:MAILTO:j.moison@hotmail.fr
SUMMARY:Gala Annuel HEC Côte D'Azur du 2 Avril 2026
DESCRIPTION:Le Bureau HEC Azur vous convie au Gala sur la Riviera qui aura lieu en bord de mer, sur le rooftop du Syracuse à Villeneuve Loubet. \n🥂 A partir de 18h30 nous vous accueillons pour une coupe de...
URL:https://www.hecalumni.fr/fr/group/cote-d-azur/53/calendar/gala-annuel-hec-cote-d-azur-du-2-avril-2026/2026/04/02/13476
BEGIN:VALARM
TRIGGER:-P0DT1H0M0S
ACTION:DISPLAY
END:VALARM
END:VEVENT
END:VCALENDAR