BEGIN:VCALENDAR
VERSION:2.0
PRODID:-//hacksw/handcal//NONSGML v1.0//EN
BEGIN:VEVENT
DTSTART:20260521T150000Z
DTEND:20260521T163000Z
LOCATION:Musée d’Orsay \nEsplanade Valéry Giscard d'Estaing \n75007 PARIS
ORGANIZER;CN=Christian Rouy - Club HEC Détente:MAILTO:rouy.christian@orange.fr
SUMMARY:Club HEC Détente : Exposition “Renoir et l’amour. La modernité heureuse (1865-1885)”
DESCRIPTION:Renoir et l’amour. La modernité heureuse (1865-1885)\nAuguste Renoir (1841 – 1919) est célèbre pour ses œuvres, pleines de lumière et de couleur, qui représentent la vie joyeuse de la bourgeoisie du...
URL:https://www.hecalumni.fr/fr/group/club-hec-detente/163/calendar/club-hec-detente-exposition-renoir-et-l-amour-la-modernite-heureuse-1865-1885/2026/05/21/13470
BEGIN:VALARM
TRIGGER:-P0DT1H0M0S
ACTION:DISPLAY
END:VALARM
END:VEVENT
END:VCALENDAR