BEGIN:VCALENDAR
VERSION:2.0
PRODID:-//hacksw/handcal//NONSGML v1.0//EN
BEGIN:VEVENT
DTSTART:20260311T170000Z
DTEND:20260311T183000Z
LOCATION:
ORGANIZER;CN=Isabelle Dion - HUB SANTE - HEALTH HUB:MAILTO:isabellecdion@orange.fr
SUMMARY:CAREERS IN HEALTH | MBA STUDENTS and YOUNG ALUMNI
DESCRIPTION:Save the date!The twelfth edition of this HEC Santé-HEC Health/HEC Alumni career event will take place on Zoom on March 11, 2026 at 18:00. It is open to MBA Students (MBA.26, MBA.27) and Young Alumni ...
URL:https://www.hecalumni.fr/fr/group/hub-sante-health-hub/393/calendar/careers-in-health-mba-students-and-young-alumni/2026/03/11/13466
BEGIN:VALARM
TRIGGER:-P0DT1H0M0S
ACTION:DISPLAY
END:VALARM
END:VEVENT
END:VCALENDAR