BEGIN:VCALENDAR
VERSION:2.0
PRODID:-//hacksw/handcal//NONSGML v1.0//EN
BEGIN:VEVENT
DTSTART:20260310T173000Z
DTEND:20260310T203000Z
LOCATION:Maison des HEC \n9, Avenue Franklin Delano Roosevelt \n75008 PARIS
ORGANIZER;CN=Pascal Masson - Consulting & Coaching:MAILTO:pascal.massonkalewska@gmail.com
SUMMARY:Cycle Intelligence Collective Augmentée - session 2/4 : l'équipe
DESCRIPTION:Dans un monde où tout semble se fragmenter, s’accélérer et se polariser, une question revient avec insistance dans nos missions, nos équipes, nos organisations et nos vies : comment redevenir capables...
URL:https://www.hecalumni.fr/fr/group/consulting-coaching/171/calendar/cycle-intelligence-collective-augmentee-session-2-4-l-equipe/2026/03/10/13455
BEGIN:VALARM
TRIGGER:-P0DT1H0M0S
ACTION:DISPLAY
END:VALARM
END:VEVENT
END:VCALENDAR