BEGIN:VCALENDAR
VERSION:2.0
PRODID:-//hacksw/handcal//NONSGML v1.0//EN
BEGIN:VEVENT
DTSTART:20260612T163000Z
DTEND:20260612T213000Z
LOCATION:A venir
ORGANIZER;CN=Marie Delassus - HEC Grande Ecole 2013:MAILTO:delassus.marie@gmail.com
SUMMARY:13 ans de la promo 2013
DESCRIPTION:La promo 2013 entre dans l'adolescence et fête ses 13 ans cette année !Après un bel anniversaire de 10 ans, il est temps de se retrouver pour un moment simple et joyeux.Pas de chichis, pas de dîner...
URL:https://www.hecalumni.fr/fr/group/hec-grande-ecole-2013/2249/calendar/13-ans-de-la-promo-2013/2026/06/12/13454
BEGIN:VALARM
TRIGGER:-P0DT1H0M0S
ACTION:DISPLAY
END:VALARM
END:VEVENT
END:VCALENDAR