BEGIN:VCALENDAR
VERSION:2.0
PRODID:-//hacksw/handcal//NONSGML v1.0//EN
BEGIN:VEVENT
DTSTART:20261002T090500Z
DTEND:20261004T113000Z
LOCATION:Salignac-Eyvigues \n24590 Salignac-Eyvigues
ORGANIZER;CN=Laurence Rolland - Parcs et Jardins - Parks & Gardens:MAILTO:laurence.rolland@hecalumni.fr
SUMMARY:WE dans les plus beaux jardins du PERIGORD
DESCRIPTION:\nIL N'EST PLUS POSSIBLE DE S'INSCRIRE !\n
URL:https://www.hecalumni.fr/fr/group/parcs-et-jardins-parks-gardens/2703/calendar/we-dans-les-plus-beaux-jardins-du-perigord/2026/10/02/13450
BEGIN:VALARM
TRIGGER:-P0DT1H0M0S
ACTION:DISPLAY
END:VALARM
END:VEVENT
END:VCALENDAR