BEGIN:VCALENDAR
VERSION:2.0
PRODID:-//hacksw/handcal//NONSGML v1.0//EN
BEGIN:VEVENT
DTSTART:20260321T090000Z
DTEND:20260321T170000Z
LOCATION:Parc et jardins du château d'Acquigny  \n1 rue Aristide Briand \n27400 ACQUIGNY
ORGANIZER;CN=Jean-Louis Blaisot - Parcs et Jardins - Parks & Gardens:MAILTO:jean.louis.blaisot@free.fr
SUMMARY:JOURNEE EN HAUTE-NORMANDIE (EURE ET SEINE MARITIME)
DESCRIPTION:Le club HEC Parcs et Jardins vous propose une journée en Normandie autour des châteaux et parcs d’Acquigny et de Pinterville, dans l’ Eure, ainsi que du jardin des sculptures de Boisguilbert, en...
URL:https://www.hecalumni.fr/fr/group/parcs-et-jardins-parks-gardens/2703/calendar/journee-en-haute-normandie-eure-et-seine-maritime/2026/03/21/13448
BEGIN:VALARM
TRIGGER:-P0DT1H0M0S
ACTION:DISPLAY
END:VALARM
END:VEVENT
END:VCALENDAR