BEGIN:VCALENDAR
VERSION:2.0
PRODID:-//hacksw/handcal//NONSGML v1.0//EN
BEGIN:VEVENT
DTSTART:20260422T160000Z
DTEND:20260422T173000Z
LOCATION:https://us02web.zoom.us/j/88429365240?pwd=WuJIQUixVMdHvD5CwqeCAMBhWzRW15.1
ORGANIZER;CN=Christian Rouy - Club HEC Détente:MAILTO:rouy.christian@orange.fr
SUMMARY:Club HEC Détente : VISIOCONFÉRENCE : BANKSY LE MAITRE DES RUES
DESCRIPTION:Code d'accès du webinar 884 2936 5240 Code : 989965...
URL:https://www.hecalumni.fr/fr/group/club-hec-detente/163/calendar/club-hec-detente-visioconference-banksy-le-maitre-des-rues/2026/04/22/13446
BEGIN:VALARM
TRIGGER:-P0DT1H0M0S
ACTION:DISPLAY
END:VALARM
END:VEVENT
END:VCALENDAR