BEGIN:VCALENDAR
VERSION:2.0
PRODID:-//hacksw/handcal//NONSGML v1.0//EN
BEGIN:VEVENT
DTSTART:20260602T183000Z
DTEND:20260602T203000Z
LOCATION:Salle Gaveau \n45, Rue La Boétie \n75008 PARIS
ORGANIZER;CN=Jean-François Mazelier - Amateurs de Piano - HEC Piano Club:MAILTO:jfmazelier@live.fr
SUMMARY:Franck Ferrand invite Roger Muraro et Liszt
DESCRIPTION:Franck FERRAND invite Roger MURARO, piano Mardi 2 juin 2026 à 20h30Salle Gaveau45, Rue de la Boetie, 75 008, ParisCatégorie 1 : 60€ (Tarif garanti jusqu’au 15 mai 2026 si au moins 10...
URL:https://www.hecalumni.fr/fr/group/amateurs-de-piano-hec-piano-club/2573/calendar/franck-ferrand-invite-roger-muraro-et-liszt/2026/06/02/13425
BEGIN:VALARM
TRIGGER:-P0DT1H0M0S
ACTION:DISPLAY
END:VALARM
END:VEVENT
END:VCALENDAR