BEGIN:VCALENDAR
VERSION:2.0
PRODID:-//hacksw/handcal//NONSGML v1.0//EN
BEGIN:VEVENT
DTSTART:20260414T123000Z
DTEND:20260414T143000Z
LOCATION:Quartier Montsouris Paris XIVème
ORGANIZER;CN=Christian Rouy - Club HEC Détente:MAILTO:rouy.christian@orange.fr
SUMMARY:Club HEC Détente : Visite Les villas du quartier Montsouris
DESCRIPTION:Villas du quartier Montsouris                            En plein Paris et pourtant loin du bruit de la ville, cette visite hors des sentiers battus est une invitation au dépaysement dans le temps et ...
URL:https://www.hecalumni.fr/fr/group/club-hec-detente/163/calendar/club-hec-detente-visite-les-villas-du-quartier-montsouris/2026/04/14/13398
BEGIN:VALARM
TRIGGER:-P0DT1H0M0S
ACTION:DISPLAY
END:VALARM
END:VEVENT
END:VCALENDAR