BEGIN:VCALENDAR
VERSION:2.0
PRODID:-//hacksw/handcal//NONSGML v1.0//EN
BEGIN:VEVENT
DTSTART:20260313T090000Z
DTEND:20260313T113000Z
LOCATION:Palais de Justice \n8 Boulevard du Palais \n75001 Paris
ORGANIZER;CN=Béatrice Jacquemot - Ile-de-France Ouest:MAILTO:beatricejacquemot@sfr.fr
SUMMARY:Visite du Palais de Justice de Paris
DESCRIPTION:\nIl reste 2 places suite à un désistement.\nCher(e) Camarade,Nous te proposons une visite du Palais de Justice de Paris qui s'annonce passionnante, au coeur de l'Ile de la Cité et face au marché aux ...
URL:https://www.hecalumni.fr/fr/group/ile-de-france-ouest/277/calendar/visite-du-palais-de-justice-de-paris/2026/03/13/13385
BEGIN:VALARM
TRIGGER:-P0DT1H0M0S
ACTION:DISPLAY
END:VALARM
END:VEVENT
END:VCALENDAR