BEGIN:VCALENDAR
VERSION:2.0
PRODID:-//hacksw/handcal//NONSGML v1.0//EN
BEGIN:VEVENT
DTSTART:20260416T070000Z
DTEND:20260417T170000Z
LOCATION:-
ORGANIZER;CN=Marine Homo:MAILTO:marine.homo@hecalumni.fr
SUMMARY:Séminaire "Entrainement à la reprise d'entreprise" - Module 3 -16 & 17 avril
DESCRIPTION:Module 3 - La pratique de la reprise\nUn cycle de séminaires à l'initiative du Hub Entreprendre, du club REPRENEURS et d'HEC Life Project : 3 fois 2 jours pour constituer sa boite à outils ou revoir...
URL:https://www.hecalumni.fr/fr/event/seminaire-entrainement-a-la-reprise-d-entreprise-module-3-16-17-avril/2026/04/16/13380
BEGIN:VALARM
TRIGGER:-P0DT1H0M0S
ACTION:DISPLAY
END:VALARM
END:VEVENT
END:VCALENDAR