BEGIN:VCALENDAR
VERSION:2.0
PRODID:-//hacksw/handcal//NONSGML v1.0//EN
BEGIN:VEVENT
DTSTART:20260326T080000Z
DTEND:20260327T180000Z
LOCATION:-
ORGANIZER;CN=Marine Homo:MAILTO:marine.homo@hecalumni.fr
SUMMARY:Séminaire "Entrainement à la reprise d'entreprise" - Module 2 - 26 & 27 mars
DESCRIPTION:Module 2 - Les techniques de la reprise\nUn cycle de séminaires à l'initiative du Hub Entreprendre, du club REPRENEURS et d'HEC Life Project : 3 fois 2 jours pour constituer sa boite à outils ou...
URL:https://www.hecalumni.fr/fr/event/seminaire-entrainement-a-la-reprise-d-entreprise-module-2-26-27-mars/2026/03/26/13379
BEGIN:VALARM
TRIGGER:-P0DT1H0M0S
ACTION:DISPLAY
END:VALARM
END:VEVENT
END:VCALENDAR